BEGIN:VCALENDAR
VERSION:2.0
PRODID:-//wp-events-plugin.com//7.2.2//EN
TZID:Europe/Berlin
X-WR-TIMEZONE:Europe/Berlin
BEGIN:VEVENT
UID:330@mamagie.net
DTSTART;TZID=Europe/Berlin:20250425T103000
DTEND;TZID=Europe/Berlin:20250425T113000
DTSTAMP:20250112T130056Z
URL:https://mamagie.net/events/babyzeichen-fortgeschrittenen-kurs-10-woche
 n-freitags/
SUMMARY:BabyZeichen Fortgeschrittenen Kurs – 10 Wochen – Freitags9 frei
 e Plätze
DESCRIPTION:[bz-f-kurs-start]\n\nUnser Termin-Fahrplan: freitags\, 10.30-11
 .30Uhr\n\n 	25.04.25\n 	02.05.25\n 	09.05.25\n 	16.05.25 (kein Kurs am 23.
  + 30.05.25)\n 	06.06.25 (kein Kurs am 13.05.25)\n 	20.06.25\n 	27.06.25\n
  	04.07.25\n9 freie Plätze
ATTACH;FMTTYPE=image/jpeg:https://mamagie.net/wp-content/uploads/2024/07/b
 z.png
CATEGORIES:Babyzeichensprache,BZ-LIVE-Kurs-Fortgeschrittene
LOCATION:Kastellaun\, Am Herrentisch 16\, Kastellaun\, Rheinland-Pfalz\, 56
 288\, Rhein-Hunsrück-Kreis\, Deutschland9 freie Plätze
X-APPLE-STRUCTURED-LOCATION;VALUE=URI;X-ADDRESS=Am Herrentisch 16\, Kastell
 aun\, Rheinland-Pfalz\, 56288\, Rhein-Hunsrück-Kreis\, Deutschland9 freie
  Plätze;X-APPLE-RADIUS=100;X-TITLE=Kastellaun9 freie Plätze:geo:0,0
END:VEVENT
BEGIN:VTIMEZONE
TZID:Europe/Berlin
X-LIC-LOCATION:Europe/Berlin
BEGIN:DAYLIGHT
DTSTART:20250330T030000
TZOFFSETFROM:+0100
TZOFFSETTO:+0200
TZNAME:CEST
END:DAYLIGHT
END:VTIMEZONE
END:VCALENDAR